BEGIN:VCALENDAR
VERSION:2.0
PRODID:-//Post Death Education - ECPv6.15.0.1//NONSGML v1.0//EN
CALSCALE:GREGORIAN
METHOD:PUBLISH
X-WR-CALNAME:Post Death Education
X-ORIGINAL-URL:https://postdeatheducation.com
X-WR-CALDESC:Events for Post Death Education
REFRESH-INTERVAL;VALUE=DURATION:PT1H
X-Robots-Tag:noindex
X-PUBLISHED-TTL:PT1H
BEGIN:VTIMEZONE
TZID:Europe/Moscow
BEGIN:STANDARD
TZOFFSETFROM:+0300
TZOFFSETTO:+0300
TZNAME:MSK
DTSTART:20210101T000000
END:STANDARD
END:VTIMEZONE
BEGIN:VEVENT
DTSTART;TZID=Europe/Moscow:20210921T183000
DTEND;TZID=Europe/Moscow:20210921T203000
DTSTAMP:20260425T171635
CREATED:20210618T155436Z
LAST-MODIFIED:20210618T155436Z
UID:1544-1632249000-1632256200@postdeatheducation.com
SUMMARY:Παιδαγωγική απώλειας και πένθους μέσα από την παιδική λογοτεχνία
DESCRIPTION:Θεωρητική πλαισίωση των εννοιών της απώλειας και του πένθους – Συνοπτική αναφορά στο ιστορικό γίγνεσθαι και τους επιδιωκόμενους στόχους της Παιδαγωγικής της Απώλειας και του Πένθους – Προτεινόμενα σχέδια μαθημάτων που εντάσσουν τις υπό εξέταση έννοιες σε συζητήσεις με παιδιά βασισμένες σε παιδικά βιβλία – Ερευνητικά δεδομένα από συναφές έργο
URL:https://postdeatheducation.com/event/%cf%80%ce%b1%ce%b9%ce%b4%ce%b1%ce%b3%cf%89%ce%b3%ce%b9%ce%ba%ce%ae-%ce%b1%cf%80%cf%8e%ce%bb%ce%b5%ce%b9%ce%b1%cf%82-%ce%ba%ce%b1%ce%b9-%cf%80%ce%ad%ce%bd%ce%b8%ce%bf%cf%85%cf%82-%ce%bc%ce%ad%cf%83/
END:VEVENT
END:VCALENDAR