BEGIN:VCALENDAR
VERSION:2.0
PRODID:-//Post Death Education - ECPv6.15.0.1//NONSGML v1.0//EN
CALSCALE:GREGORIAN
METHOD:PUBLISH
X-ORIGINAL-URL:https://postdeatheducation.com
X-WR-CALDESC:Events for Post Death Education
REFRESH-INTERVAL;VALUE=DURATION:PT1H
X-Robots-Tag:noindex
X-PUBLISHED-TTL:PT1H
BEGIN:VTIMEZONE
TZID:Europe/Moscow
BEGIN:STANDARD
TZOFFSETFROM:+0300
TZOFFSETTO:+0300
TZNAME:MSK
DTSTART:20210101T000000
END:STANDARD
END:VTIMEZONE
BEGIN:VEVENT
DTSTART;TZID=Europe/Moscow:20210907T080000
DTEND;TZID=Europe/Moscow:20210907T100000
DTSTAMP:20260425T171826
CREATED:20210618T155118Z
LAST-MODIFIED:20210618T155118Z
UID:1528-1631001600-1631008800@postdeatheducation.com
SUMMARY:Παιδαγωγική της Απώλειας και του Πένθους - Καλές Πρακτικές
DESCRIPTION:Το σεμινάριο αφορά εκπαιδευτικούς Δημοτικής (Λευκωσίας και Πάφου) και προσφέρεται στο πλαίσιο του Διημέρου Επιμόρφωσης του Παιδαγωγικού Ινστιτούτου Κύπρου. Στοχέυει στην παρουσίαση καλών πρακτικών ένταξης των εννοιών της απώλειας και του πένθους σε συζητήσεις με παιδιά στο σχολικό πλαίσιο.\nΠεριεχόμενο του Σεμιναρίου:\n– Θεωρητική πλαισίωση των εννοιών της απώλειας και του πένθους.\n– Συνοπτική αναφορά στο ιστορικό γίγνεσθαι και τους επιδιωκόμενους στόχους της Παιδαγωγικής της Απώλειας και του Πένθους.\n– Προτεινόμενα σχέδια μαθημάτων που εντάσσουν τις υπό εξέταση έννοιες σε συζητήσεις με παιδιά.\n– Ερευνητικά δεδομένα από συναφές έργο που αφορά στο κυπριακό συγκείμενο.
URL:https://postdeatheducation.com/event/%cf%80%ce%b1%ce%b9%ce%b4%ce%b1%ce%b3%cf%89%ce%b3%ce%b9%ce%ba%ce%ae-%cf%84%ce%b7%cf%82-%ce%b1%cf%80%cf%8e%ce%bb%ce%b5%ce%b9%ce%b1%cf%82-%ce%ba%ce%b1%ce%b9-%cf%84%ce%bf%cf%85-%cf%80%ce%ad%ce%bd%ce%b8-2/
END:VEVENT
BEGIN:VEVENT
DTSTART;TZID=Europe/Moscow:20210907T110000
DTEND;TZID=Europe/Moscow:20210907T130000
DTSTAMP:20260425T171826
CREATED:20210618T154810Z
LAST-MODIFIED:20210618T154810Z
UID:1537-1631012400-1631019600@postdeatheducation.com
SUMMARY:Παιδαγωγική της Απώλειας και του Πένθους - Καλές Πρακτικές
DESCRIPTION:Το σεμινάριο αφορά εκπαιδευτικούς Δημοτικής (Λευκωσίας και Πάφου) και προσφέρεται στο πλαίσιο του Διημέρου Επιμόρφωσης του Παιδαγωγικού Ινστιτούτου Κύπρου. Στοχέυει στην παρουσίαση καλών πρακτικών ένταξης των εννοιών της απώλειας και του πένθους σε συζητήσεις με παιδιά στο σχολικό πλαίσιο.\nΠεριεχόμενο του Σεμιναρίου:\n– Θεωρητική πλαισίωση των εννοιών της απώλειας και του πένθους.\n– Συνοπτική αναφορά στο ιστορικό γίγνεσθαι και τους επιδιωκόμενους στόχους της Παιδαγωγικής της Απώλειας και του Πένθους.\n– Προτεινόμενα σχέδια μαθημάτων που εντάσσουν τις υπό εξέταση έννοιες σε συζητήσεις με παιδιά.\n– Ερευνητικά δεδομένα από συναφές έργο που αφορά στο κυπριακό συγκείμενο.
URL:https://postdeatheducation.com/event/%cf%80%ce%b1%ce%b9%ce%b4%ce%b1%ce%b3%cf%89%ce%b3%ce%b9%ce%ba%ce%ae-%cf%84%ce%b7%cf%82-%ce%b1%cf%80%cf%8e%ce%bb%ce%b5%ce%b9%ce%b1%cf%82-%ce%ba%ce%b1%ce%b9-%cf%84%ce%bf%cf%85-%cf%80%ce%ad%ce%bd%ce%b8/
END:VEVENT
END:VCALENDAR