BEGIN:VCALENDAR
VERSION:2.0
PRODID:-//Post Death Education - ECPv6.15.0.1//NONSGML v1.0//EN
CALSCALE:GREGORIAN
METHOD:PUBLISH
X-WR-CALNAME:Post Death Education
X-ORIGINAL-URL:https://postdeatheducation.com
X-WR-CALDESC:Events for Post Death Education
REFRESH-INTERVAL;VALUE=DURATION:PT1H
X-Robots-Tag:noindex
X-PUBLISHED-TTL:PT1H
BEGIN:VTIMEZONE
TZID:Europe/Moscow
BEGIN:STANDARD
TZOFFSETFROM:+0300
TZOFFSETTO:+0300
TZNAME:MSK
DTSTART:20210101T000000
END:STANDARD
END:VTIMEZONE
BEGIN:VEVENT
DTSTART;VALUE=DATE:20210615
DTEND;VALUE=DATE:20210801
DTSTAMP:20260425T184654
CREATED:20210714T095545Z
LAST-MODIFIED:20210714T095828Z
UID:1557-1623715200-1627775999@postdeatheducation.com
SUMMARY:Αιτήσεις συμμετοχής στο πρόγραμμα με τίτλο: "Παιδαγωγική της απώλειας και του θανάτου"
DESCRIPTION:Το Πρόγραμμα απευθύνεται σε ανθρώπους που καλούνται να αντιμετωπίσουν την αρρώστια\, την απώλεια και τον θάνατο στο εργασιακό τους περιβάλλον και στην καθημερινή τους ζωή (εν ενεργεία και αδιόριστοι εκπαιδευτικοί όλων των ειδικοτήτων\, νοσηλευτικό και ιατρικό προσωπικό\, κοινωνικοί λειτουργοί\, εργαζόμενοι/ες σε δομές και ιδρύματα\, πολίτες που επιθυμούν να εξοικειωθούν με τις συγκεκριμένες δεξιότητες ζωής). \nΗ Παιδαγωγική της Απώλειας και του Θανάτου (Θαναταγωγική) έχει στόχο να προάγει τη θετική συναισθηματική ανάπτυξη και την ικανότητα αντιμετώπισης δύσκολων/οδυνηρών πλευρών της ανθρώπινης ζωής σε ατομικό και κοινωνικό επίπεδο μέσα από βιωματικές εκπαιδευτικές δραστηριότητες.
URL:https://postdeatheducation.com/event/%ce%b1%ce%b9%cf%84%ce%ae%cf%83%ce%b5%ce%b9%cf%82-%cf%83%cf%85%ce%bc%ce%bc%ce%b5%cf%84%ce%bf%cf%87%ce%ae%cf%82-%cf%83%cf%84%ce%bf-%cf%80%cf%81%cf%8c%ce%b3%cf%81%ce%b1%ce%bc%ce%bc%ce%b1-%ce%bc%ce%b5/
END:VEVENT
END:VCALENDAR